{"text_format":"2","workbook":"xlsx","n_sheets":1,"sheets":["Sheet1"],"not_rendered":{"charts":0,"images":2,"macros":0,"external_links":1,"defined_names":0,"comments":0,"pivot_tables":0},"unopened":[],"bounds":{"document_bytes":16777216,"sheet_cells":100000,"run_cost":"one","rows_first":2000,"rows_last":500,"rows_between":2000,"halvings":0,"cell_chars":16384,"cell_head_chars":4096},"cells_cut":0,"cells_raw":0,"read":"whole","date_system":"1900"}

{"sheet":"Sheet1","index":0,"n_rows":29,"n_cols":10,"rows_kept":29,"cut":false,"hidden":false,"merged":[[6,0,6,9],[0,0,0,5],[1,0,1,9],[2,0,2,9],[3,0,3,9],[4,0,4,9],[5,0,5,9]]}
[]
["DIRECCIÓN GENERAL DE RECURSOS HUMANOS"]
["Concurso para Ingreso y Promoción de Personas"]
["CIRCUNSCRIPCIÓN JUDICIAL DE MISIONES"]
["LLAMADO A CONCURSO N° 231/2023"]
["Cargo: UJIER NOTIFICADOR I PARA TRIBUNAL O JUZGADO DE SAN JUAN BAUTISTA "]
["LISTA DE ELEGIBLES"]
["N°","Apellidos","Nombres","C.I. N°","Verificación Documental (Etapa 1)","Evaluación Curricular  (Etapa 2) 30 puntos (50%=15 ptos)","Evaluación de Conocimientos (Etapa 3) 50 puntos (60%= 30 ptos)","Evaluación de Aptitudes Psicológicas (Etapa 4) 20 ptos.","Puntaje Total 100 ptos.","Observaciones"]
[1,"AMARILLA MONGELOS ","NILDA ANTONIA ",5005504,"APROBADO",28,44,{"$f":"VLOOKUP($D9,'[1]CAARGOS CON 20 PUNTOS'!$D$9:$E$72,2,)","v":18},{"$f":"IF(OR(G9=\"AUSENTE\",G9=\"FRAUDE\"),0,F9+G9+H9)","v":90},{"$f":"IFERROR(VLOOKUP(D9,#REF!,4,FALSE),\"\")","v":""}]
[2,"LLANO ROLDAN","FELISA CONCEPCIÓN ",4763253,"APROBADO",28,43,{"$f":"VLOOKUP($D10,'[1]CAARGOS CON 20 PUNTOS'!$D$9:$E$72,2,)","v":17},88,{"$f":"IFERROR(VLOOKUP(D10,#REF!,4,FALSE),\"\")","v":""}]
[4,"VAZQUEZ","EVELYN MONSERRAT",6329783,"APROBADO",28,39,{"$f":"VLOOKUP($D11,'[1]CAARGOS CON 20 PUNTOS'!$D$9:$E$72,2,)","v":17},84,{"$f":"IFERROR(VLOOKUP(D11,#REF!,4,FALSE),\"\")","v":""}]
[5,"GÓMEZ HEREBIA","BRUNO PASTOR",3806207,"APROBADO",28,36,{"$f":"VLOOKUP($D12,'[1]CAARGOS CON 20 PUNTOS'!$D$9:$E$72,2,)","v":18},82,{"$f":"IFERROR(VLOOKUP(D12,#REF!,4,FALSE),\"\")","v":""}]
[6,"MARTINEZ ESCOBAR ","FRANCISCO LEONARDO ",4498434,"APROBADO",30,38,{"$f":"VLOOKUP($D13,'[1]CAARGOS CON 20 PUNTOS'!$D$9:$E$72,2,)","v":14},82,{"$f":"IFERROR(VLOOKUP(D13,#REF!,4,FALSE),\"\")","v":""}]
[7,"BRITEZ ALVARENGA","LILIAN RAQUEL ",3841826,"APROBADO",30,34,{"$f":"VLOOKUP($D14,'[1]CAARGOS CON 20 PUNTOS'!$D$9:$E$72,2,)","v":16},80,{"$f":"IFERROR(VLOOKUP(D14,#REF!,4,FALSE),\"\")","v":""}]
[8,"VALENZUELA FLECHA","MARÍA ISABEL",5150203,"APROBADO",24,36,{"$f":"VLOOKUP($D15,'[1]CAARGOS CON 20 PUNTOS'!$D$9:$E$72,2,)","v":18},78,{"$f":"IFERROR(VLOOKUP(D15,#REF!,4,FALSE),\"\")","v":""}]
[9,"CARDOZO TORRES","SANDRA DEL PILAR",4945776,"APROBADO",30,30,{"$f":"VLOOKUP($D16,'[1]CAARGOS CON 20 PUNTOS'!$D$9:$E$72,2,)","v":16},76,{"$f":"IFERROR(VLOOKUP(D16,#REF!,4,FALSE),\"\")","v":""}]
[10,"LUCENA","ALEXIS OSMAR",4504208,"APROBADO",18,40,{"$f":"VLOOKUP($D17,'[1]CAARGOS CON 20 PUNTOS'!$D$9:$E$72,2,)","v":17},75,{"$f":"IFERROR(VLOOKUP(D17,#REF!,4,FALSE),\"\")","v":""}]
[11,"ROLÓN CABRAL","ANDREA CAROLINA ",4760129,"APROBADO",26,34,{"$f":"VLOOKUP($D18,'[1]CAARGOS CON 20 PUNTOS'!$D$9:$E$72,2,)","v":15},75,{"$f":"IFERROR(VLOOKUP(D18,#REF!,4,FALSE),\"\")","v":""}]
[12,"ACOSTA HEREBIA ","LAURA CAROLINA ",5518235,"APROBADO",22,34,{"$f":"VLOOKUP($D19,'[1]CAARGOS CON 20 PUNTOS'!$D$9:$E$72,2,)","v":17},73,{"$f":"IFERROR(VLOOKUP(D19,#REF!,4,FALSE),\"\")","v":""}]
[13,"CACERES ACOSTA","LOURDES MAGDALENA ",5829035,"APROBADO",18,35,{"$f":"VLOOKUP($D20,'[1]CAARGOS CON 20 PUNTOS'!$D$9:$E$72,2,)","v":18},71,{"$f":"IFERROR(VLOOKUP(D20,#REF!,4,FALSE),\"\")","v":""}]
[14,"FRANCO VERA","MIRNA DOLORES",5635687,"APROBADO",18,37,{"$f":"VLOOKUP($D21,'[1]CAARGOS CON 20 PUNTOS'!$D$9:$E$72,2,)","v":15},70,{"$f":"IFERROR(VLOOKUP(D21,#REF!,4,FALSE),\"\")","v":""}]
[15,"OCAMPOS MARTINEZ","MARÍA ROSSANA",3466628,"APROBADO",18,35,{"$f":"VLOOKUP($D22,'[1]CAARGOS CON 20 PUNTOS'!$D$9:$E$72,2,)","v":17},70,{"$f":"IFERROR(VLOOKUP(D22,#REF!,4,FALSE),\"\")","v":""}]
[16,"ORTELLADO ROLÓN ","MARIA DEL CARMEN ",4882802,"APROBADO",18,35,{"$f":"VLOOKUP($D23,'[1]CAARGOS CON 20 PUNTOS'!$D$9:$E$72,2,)","v":17},70,{"$f":"IFERROR(VLOOKUP(D23,#REF!,4,FALSE),\"\")","v":""}]
[17,"PEREIRA RIOS","SUSANA ",6287147,"APROBADO",18,37,{"$f":"VLOOKUP($D24,'[1]CAARGOS CON 20 PUNTOS'!$D$9:$E$72,2,)","v":14},69,{"$f":"IFERROR(VLOOKUP(D24,#REF!,4,FALSE),\"\")","v":""}]
[18,"AGUERO BRITEZ","ELISEO ANDRES ",5607490,"APROBADO",18,32,{"$f":"VLOOKUP($D25,'[1]CAARGOS CON 20 PUNTOS'!$D$9:$E$72,2,)","v":18},68,{"$f":"IFERROR(VLOOKUP(D25,#REF!,4,FALSE),\"\")","v":""}]
[19,"SEGOVIA DIAZ ","STHEPANY ANGELLI",5622248,"APROBADO",16,35,{"$f":"VLOOKUP($D26,'[1]CAARGOS CON 20 PUNTOS'!$D$9:$E$72,2,)","v":17},68,{"$f":"IFERROR(VLOOKUP(D26,#REF!,4,FALSE),\"\")","v":""}]
[20,"JACQUET AQUINO ","MARIA MARLENE",4504358,"APROBADO",15,35,{"$f":"VLOOKUP($D27,'[1]CAARGOS CON 20 PUNTOS'!$D$9:$E$72,2,)","v":16},66,{"$f":"IFERROR(VLOOKUP(D27,#REF!,4,FALSE),\"\")","v":""}]
[21,"TORRES ROJAS","JUAN MANUEL ",4881511,"APROBADO",16,32,{"$f":"VLOOKUP($D28,'[1]CAARGOS CON 20 PUNTOS'!$D$9:$E$72,2,)","v":18},66,{"$f":"IFERROR(VLOOKUP(D28,#REF!,4,FALSE),\"\")","v":""}]
[22,"OCAMPOS TORRES ","JOSE MANUEL ",5635695,"APROBADO",16,35,{"$f":"VLOOKUP($D29,'[1]CAARGOS CON 20 PUNTOS'!$D$9:$E$72,2,)","v":14},65,{"$f":"IFERROR(VLOOKUP(D29,#REF!,4,FALSE),\"\")","v":""}]